BEGIN:VCALENDAR
VERSION:2.0
PRODID:-//INN-tegrativ gGmbH | Die Berufsförderungswerke im Norden - ECPv6.15.20//NONSGML v1.0//EN
CALSCALE:GREGORIAN
METHOD:PUBLISH
X-WR-CALNAME:INN-tegrativ gGmbH | Die Berufsförderungswerke im Norden
X-ORIGINAL-URL:https://inn-tegrativ.de
X-WR-CALDESC:Veranstaltungen für INN-tegrativ gGmbH | Die Berufsförderungswerke im Norden
REFRESH-INTERVAL;VALUE=DURATION:PT1H
X-Robots-Tag:noindex
X-PUBLISHED-TTL:PT1H
BEGIN:VTIMEZONE
TZID:Europe/Berlin
BEGIN:DAYLIGHT
TZOFFSETFROM:+0100
TZOFFSETTO:+0200
TZNAME:CEST
DTSTART:20250330T010000
END:DAYLIGHT
BEGIN:STANDARD
TZOFFSETFROM:+0200
TZOFFSETTO:+0100
TZNAME:CET
DTSTART:20251026T010000
END:STANDARD
BEGIN:DAYLIGHT
TZOFFSETFROM:+0100
TZOFFSETTO:+0200
TZNAME:CEST
DTSTART:20260329T010000
END:DAYLIGHT
BEGIN:STANDARD
TZOFFSETFROM:+0200
TZOFFSETTO:+0100
TZNAME:CET
DTSTART:20261025T010000
END:STANDARD
BEGIN:DAYLIGHT
TZOFFSETFROM:+0100
TZOFFSETTO:+0200
TZNAME:CEST
DTSTART:20270328T010000
END:DAYLIGHT
BEGIN:STANDARD
TZOFFSETFROM:+0200
TZOFFSETTO:+0100
TZNAME:CET
DTSTART:20271031T010000
END:STANDARD
END:VTIMEZONE
BEGIN:VEVENT
DTSTART;TZID=Europe/Berlin:20260427T110000
DTEND;TZID=Europe/Berlin:20260427T120000
DTSTAMP:20260424T044053
CREATED:20260115T115359Z
LAST-MODIFIED:20260204T072016Z
UID:6305-1777287600-1777291200@inn-tegrativ.de
SUMMARY:Virtuelle Infoveranstaltung
DESCRIPTION:Vibe-Coding 21.5. BS				\n				\n							\n			\n						\n		\n						\n				\n				\n					\n		\n			21. Mai 2026\n\n	\n\n	    |    \n\n\n13:30\n\n		\n\n\n\n	\n	  –  \n\n17:30\n\n\n\n	\n				\n				\n				\n				\n				\n					Neue KI-Seminarreihe der INN-tegrativ\, Anmeldeschluss ist der 8. Mai 2026.\n\n				\n				\n				\n				\n		\n					\n				\n										\n						\n									Zur Anmeldung
URL:https://inn-tegrativ.de/event/27-04-2026/
END:VEVENT
BEGIN:VEVENT
DTSTART;TZID=Europe/Berlin:20260428T100000
DTEND;TZID=Europe/Berlin:20260428T110000
DTSTAMP:20260424T044053
CREATED:20260112T124659Z
LAST-MODIFIED:20260204T072004Z
UID:4841-1777370400-1777374000@inn-tegrativ.de
SUMMARY:Infotag Braunschweig
DESCRIPTION:Vibe-Coding 21.5. BS				\n				\n							\n			\n						\n		\n						\n				\n				\n					\n		\n			21. Mai 2026\n\n	\n\n	    |    \n\n\n13:30\n\n		\n\n\n\n	\n	  –  \n\n17:30\n\n\n\n	\n				\n				\n				\n				\n				\n					Neue KI-Seminarreihe der INN-tegrativ\, Anmeldeschluss ist der 8. Mai 2026.\n\n				\n				\n				\n				\n		\n					\n				\n										\n						\n									Zur Anmeldung
URL:https://inn-tegrativ.de/event/28-04-2026/
LOCATION:Braunschweig
END:VEVENT
END:VCALENDAR